BEGIN:VCALENDAR
VERSION:2.0
PRODID:-//Apeldoorn Photo - ECPv6.15.20//NONSGML v1.0//EN
CALSCALE:GREGORIAN
METHOD:PUBLISH
X-WR-CALNAME:Apeldoorn Photo
X-ORIGINAL-URL:https://apeldoorn.photo
X-WR-CALDESC:Evenementen voor Apeldoorn Photo
REFRESH-INTERVAL;VALUE=DURATION:PT1H
X-Robots-Tag:noindex
X-PUBLISHED-TTL:PT1H
BEGIN:VTIMEZONE
TZID:Europe/Amsterdam
BEGIN:DAYLIGHT
TZOFFSETFROM:+0100
TZOFFSETTO:+0200
TZNAME:CEST
DTSTART:20250330T010000
END:DAYLIGHT
BEGIN:STANDARD
TZOFFSETFROM:+0200
TZOFFSETTO:+0100
TZNAME:CET
DTSTART:20251026T010000
END:STANDARD
BEGIN:DAYLIGHT
TZOFFSETFROM:+0100
TZOFFSETTO:+0200
TZNAME:CEST
DTSTART:20260329T010000
END:DAYLIGHT
BEGIN:STANDARD
TZOFFSETFROM:+0200
TZOFFSETTO:+0100
TZNAME:CET
DTSTART:20261025T010000
END:STANDARD
BEGIN:DAYLIGHT
TZOFFSETFROM:+0100
TZOFFSETTO:+0200
TZNAME:CEST
DTSTART:20270328T010000
END:DAYLIGHT
BEGIN:STANDARD
TZOFFSETFROM:+0200
TZOFFSETTO:+0100
TZNAME:CET
DTSTART:20271031T010000
END:STANDARD
END:VTIMEZONE
BEGIN:VEVENT
DTSTART;TZID=Europe/Amsterdam:20260408T193000
DTEND;TZID=Europe/Amsterdam:20260408T213000
DTSTAMP:20260421T124711
CREATED:20251223T181034Z
LAST-MODIFIED:20260301T091743Z
UID:195-1775676600-1775683800@apeldoorn.photo
SUMMARY:PHOTO CAFE / Bart Ros
DESCRIPTION:ONTDEK DE STAD DOOR DE LENS VAN BART ROS\n\n\n\nBen jij ook zo’n fotograaf die uren kan dwalen door de stad\, op zoek naar dat ene perfecte lijnenspel of het juiste licht dat net langs een gevel strijkt? Of je nu een doorgewinterde professional bent of net je eerste camera hebt gekocht: op woensdag 8 april ben je van harte welkom bij een nieuwe editie van het Photo Cafe in Mansion24. \n\n\n\nKijken met de ogen van Bart Ros\n\n\n\nBart Ros heeft een scherp oog voor architectuur en de unieke sfeer van een plek. Hij gaat ons meenemen in zijn proces: hoe vertaal je een statisch gebouw naar een dynamisch verhaal? Tijdens het eerste deel van de avond deelt Bart zijn technieken voor stadsfotografie. \n\n\n\nHet gaat hierbij niet alleen om de instellingen van je camera\, maar vooral om de kunst van het kijken. Hoe spot je bijzondere lijnen en hoe speel je met het natuurlijke licht dat de stad elke minuut van kleur doet verschieten? \n\n\n\nVan daglicht naar avondsfeer\n\n\n\nNa een korte pauze\, hét moment om met andere Apeldoornse fotografen ervaringen uit te wisselen onder het genot van een drankje\, duiken we de diepte in met avondfotografie. \n\n\n\nWanneer de zon zakt en de stadsverlichting aangaat\, verandert de sfeer volledig. Bart legt uit hoe hij die specifieke ‘vibe’ vastlegt zonder dat het een technische puzzel wordt. We sluiten de avond af met een interview\, waarbij we Bart het hemd van het lijf vragen over zijn praktijkervaringen en zijn passie voor het vak. Natuurlijk is er alle ruimte om ook jouw eigen vragen op hem af te vuren. \n\n\n\nWaarom je dit niet wilt missen\n\n\n\n\nInspiratie: Leer hoe je met een frisse blik naar je eigen vertrouwde omgeving kijkt.\n\n\n\nVerbinding: Ontmoet mede-fotografen uit de regio in een informele setting.\n\n\n\nPraktisch: Geen taaie theorie\, maar echte verhalen en tips uit de praktijk.\n\n\n\n\nPraktische informatie \n\n\n\n\nLocatie: Mansion24\, Apeldoorn\n\n\n\nTickets: €12.50\n\n\n\n\nWil je erbij zijn op 8 april? Noteer de datum en kom langs voor een flinke dosis fotografische inspiratie. We zien je daar! \n\n\n\n\n\nBart Ros\n\n\n\n\n\n\nTICKETS KOOP JE HIER\n\n\n\n\nPhoto Café Bart Ros
URL:https://apeldoorn.photo/agenda/photo-cafe-bart-ros/
LOCATION:Mansion24\, Marktplein 22\, Apeldoorn\, 7311 EE
CATEGORIES:Photo Cafe
ATTACH;FMTTYPE=image/jpeg:https://apeldoorn.photo/wp-content/uploads/APC-Ros.jpg
END:VEVENT
END:VCALENDAR